BEGIN:VCALENDAR
VERSION:2.0
PRODID:-//Accessible Living - ECPv6.15.20//NONSGML v1.0//EN
CALSCALE:GREGORIAN
METHOD:PUBLISH
X-ORIGINAL-URL:https://buildaccessible.com
X-WR-CALDESC:Events for Accessible Living
REFRESH-INTERVAL;VALUE=DURATION:PT1H
X-Robots-Tag:noindex
X-PUBLISHED-TTL:PT1H
BEGIN:VTIMEZONE
TZID:America/Phoenix
BEGIN:STANDARD
TZOFFSETFROM:-0700
TZOFFSETTO:-0700
TZNAME:MST
DTSTART:20250101T000000
END:STANDARD
END:VTIMEZONE
BEGIN:VEVENT
DTSTART;VALUE=DATE:20260303
DTEND;VALUE=DATE:20260304
DTSTAMP:20260421T012921
CREATED:20260209T204147Z
LAST-MODIFIED:20260209T204147Z
UID:3857-1772496000-1772582399@buildaccessible.com
SUMMARY:NARI CRPM Online Prep Course
DESCRIPTION:
URL:https://buildaccessible.com/event/nari-crpm-online-prep-course-6/
END:VEVENT
BEGIN:VEVENT
DTSTART;VALUE=DATE:20260316
DTEND;VALUE=DATE:20260319
DTSTAMP:20260421T012921
CREATED:20251027T193022Z
LAST-MODIFIED:20251027T193022Z
UID:3671-1773619200-1773878399@buildaccessible.com
SUMMARY:EFA 2026
DESCRIPTION:
URL:https://buildaccessible.com/event/efa-2026/
END:VEVENT
BEGIN:VEVENT
DTSTART;VALUE=DATE:20260318
DTEND;VALUE=DATE:20260321
DTSTAMP:20260421T012921
CREATED:20260219T180418Z
LAST-MODIFIED:20260219T180418Z
UID:3952-1773792000-1774051199@buildaccessible.com
SUMMARY:CASSI Certification Class
DESCRIPTION:
URL:https://buildaccessible.com/event/cassi-certification-class-3/
END:VEVENT
BEGIN:VEVENT
DTSTART;VALUE=DATE:20260326
DTEND;VALUE=DATE:20260327
DTSTAMP:20260421T012921
CREATED:20260209T203708Z
LAST-MODIFIED:20260209T203708Z
UID:3853-1774483200-1774569599@buildaccessible.com
SUMMARY:AIANY Design for Aging Committee Meeting
DESCRIPTION:
URL:https://buildaccessible.com/event/aiany-design-for-aging-committee-meeting-16/
END:VEVENT
BEGIN:VEVENT
DTSTART;VALUE=DATE:20260330
DTEND;VALUE=DATE:20260403
DTSTAMP:20260421T012921
CREATED:20260211T223709Z
LAST-MODIFIED:20260211T223709Z
UID:3898-1774828800-1775174399@buildaccessible.com
SUMMARY:Coverings 2026
DESCRIPTION:
URL:https://buildaccessible.com/event/coverings-2026/
END:VEVENT
BEGIN:VEVENT
DTSTART;VALUE=DATE:20260330
DTEND;VALUE=DATE:20260402
DTSTAMP:20260421T012921
CREATED:20260211T225429Z
LAST-MODIFIED:20260211T225429Z
UID:3924-1774828800-1775087999@buildaccessible.com
SUMMARY:NIC Spring Conference
DESCRIPTION:
URL:https://buildaccessible.com/event/nic-spring-conference/
END:VEVENT
BEGIN:VEVENT
DTSTART;VALUE=DATE:20260331
DTEND;VALUE=DATE:20260401
DTSTAMP:20260421T012921
CREATED:20260211T222426Z
LAST-MODIFIED:20260211T222426Z
UID:3886-1774915200-1775001599@buildaccessible.com
SUMMARY:NARI UDCP Online Prep Course
DESCRIPTION:
URL:https://buildaccessible.com/event/nari-udcp-online-prep-course-8/
END:VEVENT
END:VCALENDAR