BEGIN:VCALENDAR
VERSION:2.0
PRODID:-//Accessible Living - ECPv6.15.20//NONSGML v1.0//EN
CALSCALE:GREGORIAN
METHOD:PUBLISH
X-WR-CALNAME:Accessible Living
X-ORIGINAL-URL:https://buildaccessible.com
X-WR-CALDESC:Events for Accessible Living
REFRESH-INTERVAL;VALUE=DURATION:PT1H
X-Robots-Tag:noindex
X-PUBLISHED-TTL:PT1H
BEGIN:VTIMEZONE
TZID:America/Phoenix
BEGIN:STANDARD
TZOFFSETFROM:-0700
TZOFFSETTO:-0700
TZNAME:MST
DTSTART:20220101T000000
END:STANDARD
END:VTIMEZONE
BEGIN:VEVENT
DTSTART;VALUE=DATE:20240227
DTEND;VALUE=DATE:20240301
DTSTAMP:20260421T211858
CREATED:20240122T215919Z
LAST-MODIFIED:20240122T215919Z
UID:2576-1708992000-1709251199@buildaccessible.com
SUMMARY:NAHB International Builders’ Show
DESCRIPTION:
URL:https://buildaccessible.com/event/nahb-international-builders-show-3/
END:VEVENT
BEGIN:VEVENT
DTSTART;VALUE=DATE:20240227
DTEND;VALUE=DATE:20240301
DTSTAMP:20260421T211858
CREATED:20231026T170118Z
LAST-MODIFIED:20231026T173123Z
UID:2500-1708992000-1709251199@buildaccessible.com
SUMMARY:NKBA-KBIS
DESCRIPTION:
URL:https://buildaccessible.com/event/nkba-kbis/
LOCATION:Las Vegas Convention Center\, 3150 Paradise Rd\, Las Vegas\, NV\, 89109\, United States
END:VEVENT
BEGIN:VEVENT
DTSTART;VALUE=DATE:20240222
DTEND;VALUE=DATE:20240223
DTSTAMP:20260421T211858
CREATED:20240122T220257Z
LAST-MODIFIED:20240122T220257Z
UID:2582-1708560000-1708646399@buildaccessible.com
SUMMARY:AIANY Design for Aging Committee Meeting
DESCRIPTION:
URL:https://buildaccessible.com/event/aiany-design-for-aging-committee-meeting-5/
END:VEVENT
BEGIN:VEVENT
DTSTART;VALUE=DATE:20240208
DTEND;VALUE=DATE:20240209
DTSTAMP:20260421T211858
CREATED:20231026T171303Z
LAST-MODIFIED:20231026T171336Z
UID:2505-1707350400-1707436799@buildaccessible.com
SUMMARY:NARI CKBR Online Prep Course
DESCRIPTION:
URL:https://buildaccessible.com/event/nari-ckbr-online-prep-course/
END:VEVENT
BEGIN:VEVENT
DTSTART;VALUE=DATE:20240207
DTEND;VALUE=DATE:20240208
DTSTAMP:20260421T211858
CREATED:20231026T170359Z
LAST-MODIFIED:20231026T170359Z
UID:2499-1707264000-1707350399@buildaccessible.com
SUMMARY:NARI CR Online Prep Course
DESCRIPTION:
URL:https://buildaccessible.com/event/nari-cr-online-prep-course/
END:VEVENT
BEGIN:VEVENT
DTSTART;VALUE=DATE:20240124
DTEND;VALUE=DATE:20240127
DTSTAMP:20260421T211858
CREATED:20240122T220605Z
LAST-MODIFIED:20240122T220605Z
UID:2588-1706054400-1706313599@buildaccessible.com
SUMMARY:ASID at The International Surface Event 2024
DESCRIPTION:
URL:https://buildaccessible.com/event/asid-at-the-international-surface-event-2024/
END:VEVENT
BEGIN:VEVENT
DTSTART;VALUE=DATE:20231228
DTEND;VALUE=DATE:20231229
DTSTAMP:20260421T211858
CREATED:20231026T212305Z
LAST-MODIFIED:20231026T212305Z
UID:2530-1703721600-1703807999@buildaccessible.com
SUMMARY:AIANY Design for Aging Committee Meeting
DESCRIPTION:
URL:https://buildaccessible.com/event/aiany-design-for-aging-committee-meeting-4/
LOCATION:Virtual
END:VEVENT
BEGIN:VEVENT
DTSTART;VALUE=DATE:20231212
DTEND;VALUE=DATE:20231214
DTSTAMP:20260421T211858
CREATED:20231026T164658Z
LAST-MODIFIED:20231026T164658Z
UID:2497-1702339200-1702511999@buildaccessible.com
SUMMARY:What’s Next Longevity Innovation Summit
DESCRIPTION:
URL:https://buildaccessible.com/event/whats-next-longevity-innovation-summit-2/
LOCATION:Washington\, D.C.
END:VEVENT
BEGIN:VEVENT
DTSTART;VALUE=DATE:20231123
DTEND;VALUE=DATE:20231124
DTSTAMP:20260421T211858
CREATED:20231026T173901Z
LAST-MODIFIED:20231026T173901Z
UID:2528-1700697600-1700783999@buildaccessible.com
SUMMARY:AIANY Design for Aging Committee Meeting
DESCRIPTION:
URL:https://buildaccessible.com/event/aiany-design-for-aging-committee-meeting-3/
LOCATION:Virtual
END:VEVENT
BEGIN:VEVENT
DTSTART;VALUE=DATE:20231110
DTEND;VALUE=DATE:20231112
DTSTAMP:20260421T211858
CREATED:20230814T230308Z
LAST-MODIFIED:20230814T230308Z
UID:2380-1699574400-1699747199@buildaccessible.com
SUMMARY:AOTA Education Summit
DESCRIPTION:
URL:https://buildaccessible.com/event/aota-education-summit-2/
LOCATION:Denver\, Colo.
END:VEVENT
BEGIN:VEVENT
DTSTART;VALUE=DATE:20231108
DTEND;VALUE=DATE:20231111
DTSTAMP:20260421T211858
CREATED:20230814T230210Z
LAST-MODIFIED:20230814T230210Z
UID:2377-1699401600-1699660799@buildaccessible.com
SUMMARY:Coalition for Home Repair ReFrame Annual Conference
DESCRIPTION:
URL:https://buildaccessible.com/event/coalition-for-home-repair-reframe-annual-conference/
LOCATION:Kingsport\, Tenn.
END:VEVENT
BEGIN:VEVENT
DTSTART;VALUE=DATE:20231106
DTEND;VALUE=DATE:20231109
DTSTAMP:20260421T211858
CREATED:20230814T230127Z
LAST-MODIFIED:20230814T230127Z
UID:2375-1699228800-1699487999@buildaccessible.com
SUMMARY:The Arc’s National Convention
DESCRIPTION:
URL:https://buildaccessible.com/event/the-arcs-national-convention/
LOCATION:New Orleans\, La.
END:VEVENT
BEGIN:VEVENT
DTSTART;VALUE=DATE:20231104
DTEND;VALUE=DATE:20231108
DTSTAMP:20260421T211858
CREATED:20230814T230026Z
LAST-MODIFIED:20230814T230026Z
UID:2373-1699056000-1699401599@buildaccessible.com
SUMMARY:2023 Healthcare Design Conference & Expo
DESCRIPTION:
URL:https://buildaccessible.com/event/2023-healthcare-design-conference-expo/
LOCATION:New Orleans\, La.
END:VEVENT
BEGIN:VEVENT
DTSTART;VALUE=DATE:20231024
DTEND;VALUE=DATE:20231025
DTSTAMP:20260421T211858
CREATED:20230113T232114Z
LAST-MODIFIED:20230113T232114Z
UID:2036-1698105600-1698191999@buildaccessible.com
SUMMARY:NARI Universal Design Online Prep Course
DESCRIPTION:
URL:https://buildaccessible.com/event/nari-universal-design-online-prep-course-3/
END:VEVENT
BEGIN:VEVENT
DTSTART;VALUE=DATE:20231020
DTEND;VALUE=DATE:20231022
DTSTAMP:20260421T211858
CREATED:20230814T225828Z
LAST-MODIFIED:20230814T225828Z
UID:2370-1697760000-1697932799@buildaccessible.com
SUMMARY:AOTA Specialty Conference: Adult Rehabilitation
DESCRIPTION:
URL:https://buildaccessible.com/event/aota-specialty-conference-adult-rehabilitation/
LOCATION:Baltimore\, Md.
END:VEVENT
BEGIN:VEVENT
DTSTART;VALUE=DATE:20231015
DTEND;VALUE=DATE:20231018
DTSTAMP:20260421T211858
CREATED:20230814T225735Z
LAST-MODIFIED:20230814T225735Z
UID:2368-1697328000-1697587199@buildaccessible.com
SUMMARY:NAHB Building Systems Housing Summit
DESCRIPTION:
URL:https://buildaccessible.com/event/nahb-building-systems-housing-summit/
LOCATION:Washington\, D.C.
END:VEVENT
BEGIN:VEVENT
DTSTART;VALUE=DATE:20231011
DTEND;VALUE=DATE:20231016
DTSTAMP:20260421T211858
CREATED:20230814T225611Z
LAST-MODIFIED:20230814T225611Z
UID:2365-1696982400-1697414399@buildaccessible.com
SUMMARY:AIA Custom Residential Architects Network Symposium 2023
DESCRIPTION:
URL:https://buildaccessible.com/event/aia-custom-residential-architects-network-symposium-2023/
LOCATION:Salt Lake City\, Utah
END:VEVENT
BEGIN:VEVENT
DTSTART;VALUE=DATE:20231011
DTEND;VALUE=DATE:20231014
DTSTAMP:20260421T211858
CREATED:20230814T225452Z
LAST-MODIFIED:20230814T225452Z
UID:2362-1696982400-1697241599@buildaccessible.com
SUMMARY:Closing The Gap (Annual Assistive Technology) Conference
DESCRIPTION:
URL:https://buildaccessible.com/event/closing-the-gap-annual-assistive-technology-conference/
LOCATION:Minneapolis\, Minn.
END:VEVENT
BEGIN:VEVENT
DTSTART;VALUE=DATE:20231002
DTEND;VALUE=DATE:20231004
DTSTAMP:20260421T211858
CREATED:20230814T225339Z
LAST-MODIFIED:20230814T225339Z
UID:2360-1696204800-1696377599@buildaccessible.com
SUMMARY:NARI Fall Conference
DESCRIPTION:
URL:https://buildaccessible.com/event/nari-fall-conference/
LOCATION:Las Vegas\, Nev.
END:VEVENT
BEGIN:VEVENT
DTSTART;VALUE=DATE:20230928
DTEND;VALUE=DATE:20230929
DTSTAMP:20260421T211858
CREATED:20230814T225245Z
LAST-MODIFIED:20230814T225245Z
UID:2358-1695859200-1695945599@buildaccessible.com
SUMMARY:AIANY Design for Aging Committee Meeting
DESCRIPTION:
URL:https://buildaccessible.com/event/aiany-design-for-aging-committee-meeting-2/
LOCATION:Virtual
END:VEVENT
BEGIN:VEVENT
DTSTART;VALUE=DATE:20230920
DTEND;VALUE=DATE:20230922
DTSTAMP:20260421T211858
CREATED:20221129T165248Z
LAST-MODIFIED:20230814T225146Z
UID:1996-1695168000-1695340799@buildaccessible.com
SUMMARY:Remodelers Summit 2023
DESCRIPTION:
URL:https://buildaccessible.com/event/remodelers-summit-2023/
LOCATION:Chicago\, Ill.
END:VEVENT
BEGIN:VEVENT
DTSTART;VALUE=DATE:20230914
DTEND;VALUE=DATE:20230915
DTSTAMP:20260421T211858
CREATED:20230814T225013Z
LAST-MODIFIED:20230814T225013Z
UID:2353-1694649600-1694735999@buildaccessible.com
SUMMARY:ASID NC-SC Chapter Smart Technology CEU w/Swell Home
DESCRIPTION:
URL:https://buildaccessible.com/event/asid-nc-sc-chapter-smart-technology-ceu-w-swell-home/
LOCATION:Belville\, N.C.
END:VEVENT
BEGIN:VEVENT
DTSTART;VALUE=DATE:20230907
DTEND;VALUE=DATE:20230908
DTSTAMP:20260421T211858
CREATED:20230814T224913Z
LAST-MODIFIED:20230814T224913Z
UID:2351-1694044800-1694131199@buildaccessible.com
SUMMARY:Accessible Residential Housing Webinar
DESCRIPTION:
URL:https://buildaccessible.com/event/accessible-residential-housing-webinar/
END:VEVENT
BEGIN:VEVENT
DTSTART;VALUE=DATE:20230907
DTEND;VALUE=DATE:20230910
DTSTAMP:20260421T211858
CREATED:20230329T231450Z
LAST-MODIFIED:20230329T231450Z
UID:2190-1694044800-1694303999@buildaccessible.com
SUMMARY:CEDIA Expo 2023
DESCRIPTION:
URL:https://buildaccessible.com/event/cedia-expo-2023/
LOCATION:Denver\, Colo.
END:VEVENT
BEGIN:VEVENT
DTSTART;VALUE=DATE:20230831
DTEND;VALUE=DATE:20230901
DTSTAMP:20260421T211858
CREATED:20230814T224758Z
LAST-MODIFIED:20230814T224758Z
UID:2349-1693440000-1693526399@buildaccessible.com
SUMMARY:AOTA webinar\, Toileting: Identifying and Treating the Unspoken ADL
DESCRIPTION:
URL:https://buildaccessible.com/event/aota-webinar-toileting-identifying-and-treating-the-unspoken-adl/
END:VEVENT
BEGIN:VEVENT
DTSTART;VALUE=DATE:20230831
DTEND;VALUE=DATE:20230901
DTSTAMP:20260421T211858
CREATED:20230814T224726Z
LAST-MODIFIED:20230814T224726Z
UID:2347-1693440000-1693526399@buildaccessible.com
SUMMARY:NARI Certified Kitchen and Bath Remodeler Online Prep Course
DESCRIPTION:
URL:https://buildaccessible.com/event/nari-certified-kitchen-and-bath-remodeler-online-prep-course/
END:VEVENT
BEGIN:VEVENT
DTSTART;VALUE=DATE:20230830
DTEND;VALUE=DATE:20230831
DTSTAMP:20260421T211858
CREATED:20230814T224600Z
LAST-MODIFIED:20230814T224633Z
UID:2344-1693353600-1693439999@buildaccessible.com
SUMMARY:NAHB Virtual Townhall Meetings
DESCRIPTION:
URL:https://buildaccessible.com/event/nahb-virtual-townhall-meetings/
LOCATION:Virtual
END:VEVENT
BEGIN:VEVENT
DTSTART;VALUE=DATE:20230813
DTEND;VALUE=DATE:20230816
DTSTAMP:20260421T211858
CREATED:20230329T231416Z
LAST-MODIFIED:20230329T231416Z
UID:2187-1691884800-1692143999@buildaccessible.com
SUMMARY:ASID GATHER 2023
DESCRIPTION:
URL:https://buildaccessible.com/event/asid-gather-2023/
LOCATION:Los Angeles\, Calif.
END:VEVENT
BEGIN:VEVENT
DTSTART;VALUE=DATE:20230803
DTEND;VALUE=DATE:20230806
DTSTAMP:20260421T211858
CREATED:20230329T231326Z
LAST-MODIFIED:20230329T231326Z
UID:2184-1691020800-1691279999@buildaccessible.com
SUMMARY:Illuminating Engineering Society Annual Conference
DESCRIPTION:
URL:https://buildaccessible.com/event/illuminating-engineering-society-annual-conference/
LOCATION:Schaumburg\, Ill.
END:VEVENT
BEGIN:VEVENT
DTSTART;VALUE=DATE:20230802
DTEND;VALUE=DATE:20230805
DTSTAMP:20260421T211858
CREATED:20230329T231154Z
LAST-MODIFIED:20230329T231154Z
UID:2182-1690934400-1691193599@buildaccessible.com
SUMMARY:IDS National Conference
DESCRIPTION:
URL:https://buildaccessible.com/event/ids-national-conference/
LOCATION:New York\, N.Y.
END:VEVENT
END:VCALENDAR