BEGIN:VCALENDAR
VERSION:2.0
PRODID:-//Accessible Living - ECPv6.15.20//NONSGML v1.0//EN
CALSCALE:GREGORIAN
METHOD:PUBLISH
X-ORIGINAL-URL:https://buildaccessible.com
X-WR-CALDESC:Events for Accessible Living
REFRESH-INTERVAL;VALUE=DURATION:PT1H
X-Robots-Tag:noindex
X-PUBLISHED-TTL:PT1H
BEGIN:VTIMEZONE
TZID:America/Phoenix
BEGIN:STANDARD
TZOFFSETFROM:-0700
TZOFFSETTO:-0700
TZNAME:MST
DTSTART:20250101T000000
END:STANDARD
END:VTIMEZONE
BEGIN:VEVENT
DTSTART;VALUE=DATE:20261025
DTEND;VALUE=DATE:20261029
DTSTAMP:20260421T133916
CREATED:20260219T175549Z
LAST-MODIFIED:20260219T175549Z
UID:3946-1792886400-1793231999@buildaccessible.com
SUMMARY:SeniorLivingPoint
DESCRIPTION:
URL:https://buildaccessible.com/event/seniorlivingpoint-3/
END:VEVENT
BEGIN:VEVENT
DTSTART;VALUE=DATE:20261105
DTEND;VALUE=DATE:20261106
DTSTAMP:20260421T133916
CREATED:20260219T175810Z
LAST-MODIFIED:20260219T175810Z
UID:3948-1793836800-1793923199@buildaccessible.com
SUMMARY:Benjamin Moore Color Trends 2026
DESCRIPTION:
URL:https://buildaccessible.com/event/benjamin-moore-color-trends-2026-2/
END:VEVENT
BEGIN:VEVENT
DTSTART;VALUE=DATE:20261113
DTEND;VALUE=DATE:20261115
DTSTAMP:20260421T133916
CREATED:20260219T175922Z
LAST-MODIFIED:20260219T175922Z
UID:3950-1794528000-1794700799@buildaccessible.com
SUMMARY:2026 AOTA Education Summit
DESCRIPTION:
URL:https://buildaccessible.com/event/2026-aota-education-summit/
END:VEVENT
BEGIN:VEVENT
DTSTART;VALUE=DATE:20261126
DTEND;VALUE=DATE:20261127
DTSTAMP:20260421T133916
CREATED:20260211T224932Z
LAST-MODIFIED:20260211T224932Z
UID:3916-1795651200-1795737599@buildaccessible.com
SUMMARY:AIANY Design for Aging Committee Meeting
DESCRIPTION:
URL:https://buildaccessible.com/event/aiany-design-for-aging-committee-meeting-24/
END:VEVENT
BEGIN:VEVENT
DTSTART;VALUE=DATE:20261224
DTEND;VALUE=DATE:20261225
DTSTAMP:20260421T133916
CREATED:20260211T224959Z
LAST-MODIFIED:20260211T224959Z
UID:3918-1798070400-1798156799@buildaccessible.com
SUMMARY:AIANY Design for Aging Committee Meeting
DESCRIPTION:
URL:https://buildaccessible.com/event/aiany-design-for-aging-committee-meeting-25/
END:VEVENT
END:VCALENDAR