BEGIN:VCALENDAR
VERSION:2.0
PRODID:-//Accessible Living - ECPv6.15.20//NONSGML v1.0//EN
CALSCALE:GREGORIAN
METHOD:PUBLISH
X-WR-CALNAME:Accessible Living
X-ORIGINAL-URL:https://buildaccessible.com
X-WR-CALDESC:Events for Accessible Living
REFRESH-INTERVAL;VALUE=DURATION:PT1H
X-Robots-Tag:noindex
X-PUBLISHED-TTL:PT1H
BEGIN:VTIMEZONE
TZID:America/Phoenix
BEGIN:STANDARD
TZOFFSETFROM:-0700
TZOFFSETTO:-0700
TZNAME:MST
DTSTART:20210101T000000
END:STANDARD
END:VTIMEZONE
BEGIN:VEVENT
DTSTART;VALUE=DATE:20220308
DTEND;VALUE=DATE:20220309
DTSTAMP:20260425T111848
CREATED:20220218T003500Z
LAST-MODIFIED:20220218T003534Z
UID:1508-1646697600-1646783999@buildaccessible.com
SUMMARY:NARI Certified Remodeling Project Manager (CRPM) Online Prep Course
DESCRIPTION:
URL:https://buildaccessible.com/event/nari-certified-remodeling-project-manager-crpm-online-prep-course/
END:VEVENT
BEGIN:VEVENT
DTSTART;VALUE=DATE:20220303
DTEND;VALUE=DATE:20220304
DTSTAMP:20260425T111848
CREATED:20220218T005218Z
LAST-MODIFIED:20220218T005218Z
UID:1514-1646265600-1646351999@buildaccessible.com
SUMMARY:NARI Certified Lead Carpenter (CLC) Online Prep Course
DESCRIPTION:
URL:https://buildaccessible.com/event/nari-certified-lead-carpenter-clc-online-prep-course/
END:VEVENT
BEGIN:VEVENT
DTSTART;VALUE=DATE:20220208
DTEND;VALUE=DATE:20220211
DTSTAMP:20260425T111848
CREATED:20210406T060126Z
LAST-MODIFIED:20220105T050040Z
UID:1215-1644278400-1644537599@buildaccessible.com
SUMMARY:NAHB International Builders' Show
DESCRIPTION:
URL:https://buildaccessible.com/event/nahb-international-builders-show/
LOCATION:Orange County Convention Center\, 9400 Universal Blvd\, Orlando\, FL\, 32819\, United States
END:VEVENT
BEGIN:VEVENT
DTSTART;VALUE=DATE:20220208
DTEND;VALUE=DATE:20220211
DTSTAMP:20260425T111848
CREATED:20210326T050408Z
LAST-MODIFIED:20220105T045847Z
UID:1287-1644278400-1644537599@buildaccessible.com
SUMMARY:KBIS 2022
DESCRIPTION:
URL:https://buildaccessible.com/event/kbis-2022/
LOCATION:Orange County Convention Center\, 9400 Universal Blvd\, Orlando\, FL\, 32819\, United States
END:VEVENT
BEGIN:VEVENT
DTSTART;VALUE=DATE:20220105
DTEND;VALUE=DATE:20220109
DTSTAMP:20260425T111848
CREATED:20210313T042238Z
LAST-MODIFIED:20220105T050216Z
UID:1202-1641340800-1641686399@buildaccessible.com
SUMMARY:CES 2022
DESCRIPTION:
URL:https://buildaccessible.com/event/ces-2022/
LOCATION:Las Vegas Convention Center\, 3150 Paradise Rd\, Las Vegas\, NV\, 89109\, United States
END:VEVENT
END:VCALENDAR