BEGIN:VCALENDAR
VERSION:2.0
PRODID:-//Accessible Living - ECPv6.15.20//NONSGML v1.0//EN
CALSCALE:GREGORIAN
METHOD:PUBLISH
X-WR-CALNAME:Accessible Living
X-ORIGINAL-URL:https://buildaccessible.com
X-WR-CALDESC:Events for Accessible Living
REFRESH-INTERVAL;VALUE=DURATION:PT1H
X-Robots-Tag:noindex
X-PUBLISHED-TTL:PT1H
BEGIN:VTIMEZONE
TZID:America/Chicago
BEGIN:DAYLIGHT
TZOFFSETFROM:-0600
TZOFFSETTO:-0500
TZNAME:CDT
DTSTART:20240310T080000
END:DAYLIGHT
BEGIN:STANDARD
TZOFFSETFROM:-0500
TZOFFSETTO:-0600
TZNAME:CST
DTSTART:20241103T070000
END:STANDARD
BEGIN:DAYLIGHT
TZOFFSETFROM:-0600
TZOFFSETTO:-0500
TZNAME:CDT
DTSTART:20250309T080000
END:DAYLIGHT
BEGIN:STANDARD
TZOFFSETFROM:-0500
TZOFFSETTO:-0600
TZNAME:CST
DTSTART:20251102T070000
END:STANDARD
BEGIN:DAYLIGHT
TZOFFSETFROM:-0600
TZOFFSETTO:-0500
TZNAME:CDT
DTSTART:20260308T080000
END:DAYLIGHT
BEGIN:STANDARD
TZOFFSETFROM:-0500
TZOFFSETTO:-0600
TZNAME:CST
DTSTART:20261101T070000
END:STANDARD
END:VTIMEZONE
BEGIN:VTIMEZONE
TZID:America/Phoenix
BEGIN:STANDARD
TZOFFSETFROM:-0700
TZOFFSETTO:-0700
TZNAME:MST
DTSTART:20240101T000000
END:STANDARD
END:VTIMEZONE
BEGIN:VTIMEZONE
TZID:America/New_York
BEGIN:DAYLIGHT
TZOFFSETFROM:-0500
TZOFFSETTO:-0400
TZNAME:EDT
DTSTART:20240310T070000
END:DAYLIGHT
BEGIN:STANDARD
TZOFFSETFROM:-0400
TZOFFSETTO:-0500
TZNAME:EST
DTSTART:20241103T060000
END:STANDARD
BEGIN:DAYLIGHT
TZOFFSETFROM:-0500
TZOFFSETTO:-0400
TZNAME:EDT
DTSTART:20250309T070000
END:DAYLIGHT
BEGIN:STANDARD
TZOFFSETFROM:-0400
TZOFFSETTO:-0500
TZNAME:EST
DTSTART:20251102T060000
END:STANDARD
BEGIN:DAYLIGHT
TZOFFSETFROM:-0500
TZOFFSETTO:-0400
TZNAME:EDT
DTSTART:20260308T070000
END:DAYLIGHT
BEGIN:STANDARD
TZOFFSETFROM:-0400
TZOFFSETTO:-0500
TZNAME:EST
DTSTART:20261101T060000
END:STANDARD
END:VTIMEZONE
BEGIN:VTIMEZONE
TZID:America/Los_Angeles
BEGIN:DAYLIGHT
TZOFFSETFROM:-0800
TZOFFSETTO:-0700
TZNAME:PDT
DTSTART:20240310T100000
END:DAYLIGHT
BEGIN:STANDARD
TZOFFSETFROM:-0700
TZOFFSETTO:-0800
TZNAME:PST
DTSTART:20241103T090000
END:STANDARD
BEGIN:DAYLIGHT
TZOFFSETFROM:-0800
TZOFFSETTO:-0700
TZNAME:PDT
DTSTART:20250309T100000
END:DAYLIGHT
BEGIN:STANDARD
TZOFFSETFROM:-0700
TZOFFSETTO:-0800
TZNAME:PST
DTSTART:20251102T090000
END:STANDARD
BEGIN:DAYLIGHT
TZOFFSETFROM:-0800
TZOFFSETTO:-0700
TZNAME:PDT
DTSTART:20260308T100000
END:DAYLIGHT
BEGIN:STANDARD
TZOFFSETFROM:-0700
TZOFFSETTO:-0800
TZNAME:PST
DTSTART:20261101T090000
END:STANDARD
END:VTIMEZONE
BEGIN:VEVENT
DTSTART;TZID=America/Chicago:20250923T170000
DTEND;TZID=America/Chicago:20250923T190000
DTSTAMP:20260421T142617
CREATED:20250210T202626Z
LAST-MODIFIED:20250210T202626Z
UID:3090-1758646800-1758654000@buildaccessible.com
SUMMARY:NARI CRPM Online Prep Course
DESCRIPTION:
URL:https://buildaccessible.com/event/nari-crpm-online-prep-course-5/
END:VEVENT
BEGIN:VEVENT
DTSTART;VALUE=DATE:20250917
DTEND;VALUE=DATE:20250918
DTSTAMP:20260421T142617
CREATED:20250807T212803Z
LAST-MODIFIED:20250807T212803Z
UID:3530-1758067200-1758153599@buildaccessible.com
SUMMARY:Details & Solutions for Livable Homes and Aging In Place (CAPS III)
DESCRIPTION:
URL:https://buildaccessible.com/event/details-solutions-for-livable-homes-and-aging-in-place-caps-iii/
END:VEVENT
BEGIN:VEVENT
DTSTART;VALUE=DATE:20250916
DTEND;VALUE=DATE:20250918
DTSTAMP:20260421T142617
CREATED:20250320T210259Z
LAST-MODIFIED:20250320T210259Z
UID:3240-1757980800-1758153599@buildaccessible.com
SUMMARY:2025 New Home Trends Summit
DESCRIPTION:
URL:https://buildaccessible.com/event/2025-new-home-trends-summit/
LOCATION:Charleston\, S.C.
END:VEVENT
BEGIN:VEVENT
DTSTART;VALUE=DATE:20250912
DTEND;VALUE=DATE:20250913
DTSTAMP:20260421T142617
CREATED:20250818T215808Z
LAST-MODIFIED:20250818T215808Z
UID:3552-1757635200-1757721599@buildaccessible.com
SUMMARY:Aging in Place Expo
DESCRIPTION:
URL:https://buildaccessible.com/event/aging-in-place-expo/
END:VEVENT
BEGIN:VEVENT
DTSTART;VALUE=DATE:20250908
DTEND;VALUE=DATE:20250909
DTSTAMP:20260421T142617
CREATED:20250313T211622Z
LAST-MODIFIED:20250313T211622Z
UID:3196-1757289600-1757375999@buildaccessible.com
SUMMARY:2025 NIC Fall Conference
DESCRIPTION:
URL:https://buildaccessible.com/event/2025-nic-fall-conference/
LOCATION:Austin\, Texas
END:VEVENT
BEGIN:VEVENT
DTSTART;VALUE=DATE:20250903
DTEND;VALUE=DATE:20250907
DTSTAMP:20260421T142617
CREATED:20250826T214636Z
LAST-MODIFIED:20250826T215700Z
UID:3569-1756857600-1757203199@buildaccessible.com
SUMMARY:CEDIA Expo/CIX
DESCRIPTION:
URL:https://buildaccessible.com/event/cedia-expo-cix-2/
LOCATION:Denver\, Colo.
END:VEVENT
BEGIN:VEVENT
DTSTART;TZID=America/New_York:20250828T170000
DTEND;TZID=America/New_York:20250828T183000
DTSTAMP:20260421T142617
CREATED:20250210T195215Z
LAST-MODIFIED:20250210T200835Z
UID:3072-1756400400-1756405800@buildaccessible.com
SUMMARY:AIANY Design for Aging Committee Meeting
DESCRIPTION:
URL:https://buildaccessible.com/event/aiany-design-for-aging-committee-meeting-12/
END:VEVENT
BEGIN:VEVENT
DTSTART;VALUE=DATE:20250827
DTEND;VALUE=DATE:20250828
DTSTAMP:20260421T142617
CREATED:20250210T194046Z
LAST-MODIFIED:20250210T194046Z
UID:3060-1756252800-1756339199@buildaccessible.com
SUMMARY:NARI CR Online Prep Course
DESCRIPTION:
URL:https://buildaccessible.com/event/nari-cr-online-prep-course-3/
END:VEVENT
BEGIN:VEVENT
DTSTART;VALUE=DATE:20250826
DTEND;VALUE=DATE:20250827
DTSTAMP:20260421T142617
CREATED:20250807T212338Z
LAST-MODIFIED:20250807T212721Z
UID:3526-1756166400-1756252799@buildaccessible.com
SUMMARY:5 Game-Changing AI Strategies Remodelers Use to Boost Profits
DESCRIPTION:
URL:https://buildaccessible.com/event/5-game-changing-ai-strategies-remodelers-use-to-boost-profits/
END:VEVENT
BEGIN:VEVENT
DTSTART;VALUE=DATE:20250817
DTEND;VALUE=DATE:20250820
DTSTAMP:20260421T142617
CREATED:20250725T164637Z
LAST-MODIFIED:20250725T164637Z
UID:3494-1755388800-1755647999@buildaccessible.com
SUMMARY:Gather 2025
DESCRIPTION:
URL:https://buildaccessible.com/event/gather-2025/
END:VEVENT
BEGIN:VEVENT
DTSTART;VALUE=DATE:20250814
DTEND;VALUE=DATE:20250815
DTSTAMP:20260421T142617
CREATED:20250813T172109Z
LAST-MODIFIED:20250813T172109Z
UID:3537-1755129600-1755215999@buildaccessible.com
SUMMARY:WEBINAR Automated Assisted Living at Home: Transforming Care with Technology
DESCRIPTION:
URL:https://buildaccessible.com/event/webinar-automated-assisted-living-at-home-transforming-care-with-technology/
END:VEVENT
BEGIN:VEVENT
DTSTART;TZID=America/New_York:20250724T170000
DTEND;TZID=America/New_York:20250724T183000
DTSTAMP:20260421T142617
CREATED:20250210T195121Z
LAST-MODIFIED:20250210T200841Z
UID:3070-1753376400-1753381800@buildaccessible.com
SUMMARY:AIANY Design for Aging Committee Meeting
DESCRIPTION:
URL:https://buildaccessible.com/event/aiany-design-for-aging-committee-meeting-11/
END:VEVENT
BEGIN:VEVENT
DTSTART;TZID=America/New_York:20250626T170000
DTEND;TZID=America/New_York:20250626T183000
DTSTAMP:20260421T142617
CREATED:20250210T195039Z
LAST-MODIFIED:20250210T200848Z
UID:3068-1750957200-1750962600@buildaccessible.com
SUMMARY:AIANY Design for Aging Committee Meeting
DESCRIPTION:
URL:https://buildaccessible.com/event/aiany-design-for-aging-committee-meeting-10/
END:VEVENT
BEGIN:VEVENT
DTSTART;TZID=America/Chicago:20250624T140000
DTEND;TZID=America/Chicago:20250624T160000
DTSTAMP:20260421T142617
CREATED:20250210T204722Z
LAST-MODIFIED:20250210T204722Z
UID:3102-1750773600-1750780800@buildaccessible.com
SUMMARY:NARI UDCP Online Prep Course
DESCRIPTION:
URL:https://buildaccessible.com/event/nari-udcp-online-prep-course-5/
END:VEVENT
BEGIN:VEVENT
DTSTART;TZID=America/Chicago:20250610T170000
DTEND;TZID=America/Chicago:20250610T190000
DTSTAMP:20260421T142617
CREATED:20250210T202531Z
LAST-MODIFIED:20250210T202538Z
UID:3087-1749574800-1749582000@buildaccessible.com
SUMMARY:NARI CRPM Online Prep Course
DESCRIPTION:Eight consecutive weeks. One day per week\, in two-hour sessions (5 pm – 7 pm CST)
URL:https://buildaccessible.com/event/3087/
END:VEVENT
BEGIN:VEVENT
DTSTART;VALUE=DATE:20250610
DTEND;VALUE=DATE:20250612
DTSTAMP:20260421T142617
CREATED:20250522T171737Z
LAST-MODIFIED:20250522T171737Z
UID:3373-1749513600-1749686399@buildaccessible.com
SUMMARY:Longevity Adventure Summit
DESCRIPTION:
URL:https://buildaccessible.com/event/longevity-adventure-summit/
LOCATION:Berkeley\, California
END:VEVENT
BEGIN:VEVENT
DTSTART;VALUE=DATE:20250609
DTEND;VALUE=DATE:20250612
DTSTAMP:20260421T142617
CREATED:20250210T213803Z
LAST-MODIFIED:20250210T213803Z
UID:3120-1749427200-1749686399@buildaccessible.com
SUMMARY:NeoCon 2025
DESCRIPTION:
URL:https://buildaccessible.com/event/neocon-2025/
END:VEVENT
BEGIN:VEVENT
DTSTART;VALUE=DATE:20250429
DTEND;VALUE=DATE:20250503
DTSTAMP:20260421T142617
CREATED:20250121T171637Z
LAST-MODIFIED:20250121T171637Z
UID:3041-1745884800-1746230399@buildaccessible.com
SUMMARY:Coverings 2025 Educational Session: Tile\, Stone in Aging in Place
DESCRIPTION:
URL:https://buildaccessible.com/event/coverings-2025-educational-session-tile-stone-in-aging-in-place/
END:VEVENT
BEGIN:VEVENT
DTSTART;VALUE=DATE:20250426
DTEND;VALUE=DATE:20250430
DTSTAMP:20260421T142617
CREATED:20250211T165758Z
LAST-MODIFIED:20250211T165758Z
UID:3124-1745625600-1745971199@buildaccessible.com
SUMMARY:Environments for Aging Conference & Expo
DESCRIPTION:
URL:https://buildaccessible.com/event/environments-for-aging-conference-expo/
END:VEVENT
BEGIN:VEVENT
DTSTART;TZID=America/New_York:20250424T170000
DTEND;TZID=America/New_York:20250424T183000
DTSTAMP:20260421T142617
CREATED:20250210T194905Z
LAST-MODIFIED:20250210T200854Z
UID:3066-1745514000-1745519400@buildaccessible.com
SUMMARY:AIANY Design for Aging Committee Meeting
DESCRIPTION:
URL:https://buildaccessible.com/event/aiany-design-for-aging-committee-meeting-9/
END:VEVENT
BEGIN:VEVENT
DTSTART;VALUE=DATE:20250409
DTEND;VALUE=DATE:20250410
DTSTAMP:20260421T142617
CREATED:20250211T183246Z
LAST-MODIFIED:20250211T183246Z
UID:3128-1744156800-1744243199@buildaccessible.com
SUMMARY:2025 NARI Remodeler of the Year award ceremony
DESCRIPTION:
URL:https://buildaccessible.com/event/2025-nari-remodeler-of-the-year-award-ceremony/
END:VEVENT
BEGIN:VEVENT
DTSTART;VALUE=DATE:20250407
DTEND;VALUE=DATE:20250410
DTSTAMP:20260421T142617
CREATED:20250210T213643Z
LAST-MODIFIED:20250210T213643Z
UID:3118-1743984000-1744243199@buildaccessible.com
SUMMARY:NARI 2025 Annual Conference
DESCRIPTION:
URL:https://buildaccessible.com/event/nari-2025-annual-conference/
END:VEVENT
BEGIN:VEVENT
DTSTART;VALUE=DATE:20250403
DTEND;VALUE=DATE:20250406
DTSTAMP:20260421T142617
CREATED:20250210T204500Z
LAST-MODIFIED:20250210T204500Z
UID:3096-1743638400-1743897599@buildaccessible.com
SUMMARY:AOTA INSPIRE | 2025 Annual Conference & Expo
DESCRIPTION:
URL:https://buildaccessible.com/event/aota-inspire-2025-annual-conference-expo/
LOCATION:Pennsylvania Convention Center\, 1101 Arch St\, Philadelphia\, PA\, 19107\, United States
END:VEVENT
BEGIN:VEVENT
DTSTART;TZID=America/Chicago:20250401T140000
DTEND;TZID=America/Chicago:20250401T160000
DTSTAMP:20260421T142617
CREATED:20250210T204633Z
LAST-MODIFIED:20250210T204633Z
UID:3100-1743516000-1743523200@buildaccessible.com
SUMMARY:NARI UDCP Online Prep Course
DESCRIPTION:
URL:https://buildaccessible.com/event/nari-udcp-online-prep-course-4/
END:VEVENT
BEGIN:VEVENT
DTSTART;TZID=America/New_York:20250327T170000
DTEND;TZID=America/New_York:20250327T183000
DTSTAMP:20260421T142617
CREATED:20250210T194822Z
LAST-MODIFIED:20250210T200901Z
UID:3064-1743094800-1743100200@buildaccessible.com
SUMMARY:AIANY Design for Aging Committee Meeting
DESCRIPTION:
URL:https://buildaccessible.com/event/aiany-design-for-aging-committee-meeting-8/
END:VEVENT
BEGIN:VEVENT
DTSTART;VALUE=DATE:20250324
DTEND;VALUE=DATE:20250325
DTSTAMP:20260421T142617
CREATED:20250211T182914Z
LAST-MODIFIED:20250211T182914Z
UID:3126-1742774400-1742860799@buildaccessible.com
SUMMARY:Design Concepts and Methods for Livable Homes and Aging In Place (CAPS II)
DESCRIPTION:
URL:https://buildaccessible.com/event/design-concepts-and-methods-for-livable-homes-and-aging-in-place-caps-ii/
END:VEVENT
BEGIN:VEVENT
DTSTART;VALUE=DATE:20250318
DTEND;VALUE=DATE:20250319
DTSTAMP:20260421T142617
CREATED:20250210T213551Z
LAST-MODIFIED:20250210T213551Z
UID:3116-1742256000-1742342399@buildaccessible.com
SUMMARY:CEDIA Tech + Business Summit
DESCRIPTION:
URL:https://buildaccessible.com/event/cedia-tech-business-summit/
END:VEVENT
BEGIN:VEVENT
DTSTART;TZID=America/Los_Angeles:20250305T100000
DTEND;TZID=America/Los_Angeles:20250305T110000
DTSTAMP:20260421T142617
CREATED:20250214T222638Z
LAST-MODIFIED:20250214T222638Z
UID:3168-1741168800-1741172400@buildaccessible.com
SUMMARY:WEBINAR | From Can’t to Can: Using Ability-Based Design to Improve Patient Experience & Outcomes
DESCRIPTION:
URL:https://buildaccessible.com/event/webinar-from-cant-to-can-using-ability-based-design-to-improve-patient-experience-outcomes/
END:VEVENT
BEGIN:VEVENT
DTSTART;TZID=America/Chicago:20250304T170000
DTEND;TZID=America/Chicago:20250304T190000
DTSTAMP:20260421T142617
CREATED:20250210T202435Z
LAST-MODIFIED:20250210T202435Z
UID:3084-1741107600-1741114800@buildaccessible.com
SUMMARY:NARI CRPM Online Prep Course
DESCRIPTION:Eight consecutive weeks. One day per week\, in two-hour sessions (5 pm – 7 pm CST)
URL:https://buildaccessible.com/event/nari-crpm-online-prep-course-4/
END:VEVENT
BEGIN:VEVENT
DTSTART;VALUE=DATE:20250303
DTEND;VALUE=DATE:20250304
DTSTAMP:20260421T142617
CREATED:20250212T161310Z
LAST-MODIFIED:20250212T161310Z
UID:3132-1740960000-1741046399@buildaccessible.com
SUMMARY:Trauma-Informed Housing: Dignified Design for Resilient Communities
DESCRIPTION:
URL:https://buildaccessible.com/event/trauma-informed-housing-dignified-design-for-resilient-communities/
END:VEVENT
END:VCALENDAR