BEGIN:VCALENDAR
VERSION:2.0
PRODID:-//Accessible Living - ECPv6.15.20//NONSGML v1.0//EN
CALSCALE:GREGORIAN
METHOD:PUBLISH
X-WR-CALNAME:Accessible Living
X-ORIGINAL-URL:https://buildaccessible.com
X-WR-CALDESC:Events for Accessible Living
REFRESH-INTERVAL;VALUE=DURATION:PT1H
X-Robots-Tag:noindex
X-PUBLISHED-TTL:PT1H
BEGIN:VTIMEZONE
TZID:America/Phoenix
BEGIN:STANDARD
TZOFFSETFROM:-0700
TZOFFSETTO:-0700
TZNAME:MST
DTSTART:20210101T000000
END:STANDARD
END:VTIMEZONE
BEGIN:VTIMEZONE
TZID:America/New_York
BEGIN:DAYLIGHT
TZOFFSETFROM:-0500
TZOFFSETTO:-0400
TZNAME:EDT
DTSTART:20210314T070000
END:DAYLIGHT
BEGIN:STANDARD
TZOFFSETFROM:-0400
TZOFFSETTO:-0500
TZNAME:EST
DTSTART:20211107T060000
END:STANDARD
BEGIN:DAYLIGHT
TZOFFSETFROM:-0500
TZOFFSETTO:-0400
TZNAME:EDT
DTSTART:20220313T070000
END:DAYLIGHT
BEGIN:STANDARD
TZOFFSETFROM:-0400
TZOFFSETTO:-0500
TZNAME:EST
DTSTART:20221106T060000
END:STANDARD
BEGIN:DAYLIGHT
TZOFFSETFROM:-0500
TZOFFSETTO:-0400
TZNAME:EDT
DTSTART:20230312T070000
END:DAYLIGHT
BEGIN:STANDARD
TZOFFSETFROM:-0400
TZOFFSETTO:-0500
TZNAME:EST
DTSTART:20231105T060000
END:STANDARD
END:VTIMEZONE
BEGIN:VEVENT
DTSTART;VALUE=DATE:20221024
DTEND;VALUE=DATE:20221027
DTSTAMP:20260422T050037
CREATED:20220614T232858Z
LAST-MODIFIED:20220614T232858Z
UID:1756-1666569600-1666828799@buildaccessible.com
SUMMARY:M-Enabling Summit – Promoting Accessible Technologies and Environments
DESCRIPTION:
URL:https://buildaccessible.com/event/m-enabling-summit-promoting-accessible-technologies-and-environments/
LOCATION:Washington\, D.C.
END:VEVENT
BEGIN:VEVENT
DTSTART;VALUE=DATE:20221023
DTEND;VALUE=DATE:20221026
DTSTAMP:20260422T050037
CREATED:20220614T232643Z
LAST-MODIFIED:20220614T232643Z
UID:1753-1666483200-1666742399@buildaccessible.com
SUMMARY:Home Care and Hospice Conference and Expo
DESCRIPTION:
URL:https://buildaccessible.com/event/home-care-and-hospice-conference-and-expo/
LOCATION:St. Louis\, Mo.
END:VEVENT
BEGIN:VEVENT
DTSTART;VALUE=DATE:20220927
DTEND;VALUE=DATE:20220928
DTSTAMP:20260422T050037
CREATED:20220218T004058Z
LAST-MODIFIED:20220218T004058Z
UID:1512-1664236800-1664323199@buildaccessible.com
SUMMARY:NARI Certified Remodeling Project Manager (CRPM) Online Prep Course
DESCRIPTION:
URL:https://buildaccessible.com/event/nari-certified-remodeling-project-manager-crpm-online-prep-course-3/
END:VEVENT
BEGIN:VEVENT
DTSTART;VALUE=DATE:20220922
DTEND;VALUE=DATE:20220923
DTSTAMP:20260422T050037
CREATED:20220218T005341Z
LAST-MODIFIED:20220218T005341Z
UID:1516-1663804800-1663891199@buildaccessible.com
SUMMARY:NARI Certified Lead Carpenter (CLC) Online Prep Course
DESCRIPTION:
URL:https://buildaccessible.com/event/nari-certified-lead-carpenter-clc-online-prep-course-2/
END:VEVENT
BEGIN:VEVENT
DTSTART;VALUE=DATE:20220921
DTEND;VALUE=DATE:20220925
DTSTAMP:20260422T050037
CREATED:20220614T232335Z
LAST-MODIFIED:20220614T232335Z
UID:1750-1663718400-1664063999@buildaccessible.com
SUMMARY:GATHER 2022 —American Society of Interior Designers’ National Conference
DESCRIPTION:
URL:https://buildaccessible.com/event/gather-2022-american-society-of-interior-designers-national-conference/
LOCATION:Miami\, Fla.
END:VEVENT
BEGIN:VEVENT
DTSTART;TZID=America/Phoenix:20220901T173000
DTEND;TZID=America/Phoenix:20220901T190000
DTSTAMP:20260422T050037
CREATED:20220614T231928Z
LAST-MODIFIED:20220614T231928Z
UID:1748-1662053400-1662058800@buildaccessible.com
SUMMARY:AOTA Virtual Career Fair
DESCRIPTION:
URL:https://buildaccessible.com/event/aota-virtual-career-fair/
LOCATION:Virtual
END:VEVENT
BEGIN:VEVENT
DTSTART;VALUE=DATE:20220901
DTEND;VALUE=DATE:20220902
DTSTAMP:20260422T050037
CREATED:20220218T003051Z
LAST-MODIFIED:20220218T003251Z
UID:1506-1661990400-1662076799@buildaccessible.com
SUMMARY:Certified Kitchen and Bath Remodeler (CKBR) Online Prep Course
DESCRIPTION:
URL:https://buildaccessible.com/event/certified-kitchen-and-bath-remodeler-ckbr-online-prep-course/
END:VEVENT
BEGIN:VEVENT
DTSTART;VALUE=DATE:20220831
DTEND;VALUE=DATE:20220901
DTSTAMP:20260422T050037
CREATED:20220218T002144Z
LAST-MODIFIED:20220218T002144Z
UID:1504-1661904000-1661990399@buildaccessible.com
SUMMARY:NARI Certified Remodeler Online Prep
DESCRIPTION:
URL:https://buildaccessible.com/event/nari-certified-remodeler-online-prep/
END:VEVENT
BEGIN:VEVENT
DTSTART;TZID=America/New_York:20220825T170000
DTEND;TZID=America/New_York:20220825T183000
DTSTAMP:20260422T050037
CREATED:20220614T204433Z
LAST-MODIFIED:20220614T204518Z
UID:1744-1661446800-1661452200@buildaccessible.com
SUMMARY:AIANY Design for Aging Committee Meeting
DESCRIPTION:
URL:https://buildaccessible.com/event/aiany-design-for-aging-committee-meeting/
LOCATION:Virtual
END:VEVENT
BEGIN:VEVENT
DTSTART;VALUE=DATE:20220823
DTEND;VALUE=DATE:20220827
DTSTAMP:20260422T050037
CREATED:20220629T180353Z
LAST-MODIFIED:20220629T180353Z
UID:1806-1661212800-1661558399@buildaccessible.com
SUMMARY:International Woodworking Fair
DESCRIPTION:
URL:https://buildaccessible.com/event/international-woodworking-fair/
LOCATION:Atlanta\, Ga.
END:VEVENT
BEGIN:VEVENT
DTSTART;VALUE=DATE:20220816
DTEND;VALUE=DATE:20220820
DTSTAMP:20260422T050037
CREATED:20220808T220241Z
LAST-MODIFIED:20220808T220241Z
UID:1876-1660608000-1660953599@buildaccessible.com
SUMMARY:SeniorLivingPoint
DESCRIPTION:
URL:https://buildaccessible.com/event/seniorlivingpoint/
END:VEVENT
BEGIN:VEVENT
DTSTART;VALUE=DATE:20220804
DTEND;VALUE=DATE:20220807
DTSTAMP:20260422T050037
CREATED:20220526T230112Z
LAST-MODIFIED:20220526T230112Z
UID:1666-1659571200-1659830399@buildaccessible.com
SUMMARY:2022 IDS National Conference
DESCRIPTION:
URL:https://buildaccessible.com/event/2022-ids-national-conference/
LOCATION:Westin Chicago River North\, 320 North Dearborn Street\, Chicago\, IL\, 60654\, United States
END:VEVENT
BEGIN:VEVENT
DTSTART;VALUE=DATE:20220628
DTEND;VALUE=DATE:20220629
DTSTAMP:20260422T050037
CREATED:20220218T005645Z
LAST-MODIFIED:20220218T005658Z
UID:1520-1656374400-1656460799@buildaccessible.com
SUMMARY:Universal Design Certified Professional (UDCP) Online Prep Course
DESCRIPTION:
URL:https://buildaccessible.com/event/universal-design-certified-professional-udcp-online-prep-course-2/
END:VEVENT
BEGIN:VEVENT
DTSTART;VALUE=DATE:20220607
DTEND;VALUE=DATE:20220608
DTSTAMP:20260422T050037
CREATED:20220218T003657Z
LAST-MODIFIED:20220218T003714Z
UID:1510-1654560000-1654646399@buildaccessible.com
SUMMARY:NARI Certified Remodeling Project Manager (CRPM) Online Prep Course
DESCRIPTION:
URL:https://buildaccessible.com/event/nari-certified-remodeling-project-manager-crpm-online-prep-course-2/
END:VEVENT
BEGIN:VEVENT
DTSTART;VALUE=DATE:20220405
DTEND;VALUE=DATE:20220408
DTSTAMP:20260422T050037
CREATED:20220212T042750Z
LAST-MODIFIED:20220212T043516Z
UID:1447-1649116800-1649375999@buildaccessible.com
SUMMARY:National Association of The Remodeling Industry Annual Conference
DESCRIPTION:
URL:https://buildaccessible.com/event/national-association-of-home-remodelers-annual-conference/
LOCATION:Desoto Hotel\, Savannah\, GA
END:VEVENT
BEGIN:VEVENT
DTSTART;VALUE=DATE:20220329
DTEND;VALUE=DATE:20220330
DTSTAMP:20260422T050037
CREATED:20220218T005545Z
LAST-MODIFIED:20220218T005545Z
UID:1518-1648512000-1648598399@buildaccessible.com
SUMMARY:Universal Design Certified Professional (UDCP) Online Prep Course
DESCRIPTION:
URL:https://buildaccessible.com/event/universal-design-certified-professional-udcp-online-prep-course/
END:VEVENT
BEGIN:VEVENT
DTSTART;VALUE=DATE:20220308
DTEND;VALUE=DATE:20220309
DTSTAMP:20260422T050037
CREATED:20220218T003500Z
LAST-MODIFIED:20220218T003534Z
UID:1508-1646697600-1646783999@buildaccessible.com
SUMMARY:NARI Certified Remodeling Project Manager (CRPM) Online Prep Course
DESCRIPTION:
URL:https://buildaccessible.com/event/nari-certified-remodeling-project-manager-crpm-online-prep-course/
END:VEVENT
BEGIN:VEVENT
DTSTART;VALUE=DATE:20220303
DTEND;VALUE=DATE:20220304
DTSTAMP:20260422T050037
CREATED:20220218T005218Z
LAST-MODIFIED:20220218T005218Z
UID:1514-1646265600-1646351999@buildaccessible.com
SUMMARY:NARI Certified Lead Carpenter (CLC) Online Prep Course
DESCRIPTION:
URL:https://buildaccessible.com/event/nari-certified-lead-carpenter-clc-online-prep-course/
END:VEVENT
BEGIN:VEVENT
DTSTART;VALUE=DATE:20220208
DTEND;VALUE=DATE:20220211
DTSTAMP:20260422T050037
CREATED:20210406T060126Z
LAST-MODIFIED:20220105T050040Z
UID:1215-1644278400-1644537599@buildaccessible.com
SUMMARY:NAHB International Builders' Show
DESCRIPTION:
URL:https://buildaccessible.com/event/nahb-international-builders-show/
LOCATION:Orange County Convention Center\, 9400 Universal Blvd\, Orlando\, FL\, 32819\, United States
END:VEVENT
BEGIN:VEVENT
DTSTART;VALUE=DATE:20220208
DTEND;VALUE=DATE:20220211
DTSTAMP:20260422T050037
CREATED:20210326T050408Z
LAST-MODIFIED:20220105T045847Z
UID:1287-1644278400-1644537599@buildaccessible.com
SUMMARY:KBIS 2022
DESCRIPTION:
URL:https://buildaccessible.com/event/kbis-2022/
LOCATION:Orange County Convention Center\, 9400 Universal Blvd\, Orlando\, FL\, 32819\, United States
END:VEVENT
BEGIN:VEVENT
DTSTART;VALUE=DATE:20220105
DTEND;VALUE=DATE:20220109
DTSTAMP:20260422T050037
CREATED:20210313T042238Z
LAST-MODIFIED:20220105T050216Z
UID:1202-1641340800-1641686399@buildaccessible.com
SUMMARY:CES 2022
DESCRIPTION:
URL:https://buildaccessible.com/event/ces-2022/
LOCATION:Las Vegas Convention Center\, 3150 Paradise Rd\, Las Vegas\, NV\, 89109\, United States
END:VEVENT
END:VCALENDAR