BEGIN:VCALENDAR
VERSION:2.0
PRODID:-//Accessible Living - ECPv6.15.20//NONSGML v1.0//EN
CALSCALE:GREGORIAN
METHOD:PUBLISH
X-WR-CALNAME:Accessible Living
X-ORIGINAL-URL:https://buildaccessible.com
X-WR-CALDESC:Events for Accessible Living
REFRESH-INTERVAL;VALUE=DURATION:PT1H
X-Robots-Tag:noindex
X-PUBLISHED-TTL:PT1H
BEGIN:VTIMEZONE
TZID:America/Phoenix
BEGIN:STANDARD
TZOFFSETFROM:-0700
TZOFFSETTO:-0700
TZNAME:MST
DTSTART:20250101T000000
END:STANDARD
END:VTIMEZONE
BEGIN:VEVENT
DTSTART;VALUE=DATE:20260421
DTEND;VALUE=DATE:20260422
DTSTAMP:20260421T024424
CREATED:20260210T205123Z
LAST-MODIFIED:20260210T205123Z
UID:3868-1776729600-1776815999@buildaccessible.com
SUMMARY:Irvine CEDIA Tech + Business Summit
DESCRIPTION:
URL:https://buildaccessible.com/event/irvine-cedia-tech-business-summit/
END:VEVENT
BEGIN:VEVENT
DTSTART;VALUE=DATE:20260421
DTEND;VALUE=DATE:20260424
DTSTAMP:20260421T024424
CREATED:20260211T222706Z
LAST-MODIFIED:20260211T222706Z
UID:3892-1776729600-1776988799@buildaccessible.com
SUMMARY:NARI Annual Conference
DESCRIPTION:
URL:https://buildaccessible.com/event/nari-annual-conference/
END:VEVENT
END:VCALENDAR